BEGIN:VCALENDAR
VERSION:2.0
PRODID:-//American Academy of Medical Acupuncture (AAMA) - ECPv6.15.14//NONSGML v1.0//EN
CALSCALE:GREGORIAN
METHOD:PUBLISH
X-ORIGINAL-URL:https://medicalacupuncture.org
X-WR-CALDESC:Events for American Academy of Medical Acupuncture (AAMA)
REFRESH-INTERVAL;VALUE=DURATION:PT1H
X-Robots-Tag:noindex
X-PUBLISHED-TTL:PT1H
BEGIN:VTIMEZONE
TZID:America/New_York
BEGIN:DAYLIGHT
TZOFFSETFROM:-0500
TZOFFSETTO:-0400
TZNAME:EDT
DTSTART:20220313T070000
END:DAYLIGHT
BEGIN:STANDARD
TZOFFSETFROM:-0400
TZOFFSETTO:-0500
TZNAME:EST
DTSTART:20221106T060000
END:STANDARD
BEGIN:DAYLIGHT
TZOFFSETFROM:-0500
TZOFFSETTO:-0400
TZNAME:EDT
DTSTART:20230312T070000
END:DAYLIGHT
BEGIN:STANDARD
TZOFFSETFROM:-0400
TZOFFSETTO:-0500
TZNAME:EST
DTSTART:20231105T060000
END:STANDARD
BEGIN:DAYLIGHT
TZOFFSETFROM:-0500
TZOFFSETTO:-0400
TZNAME:EDT
DTSTART:20240310T070000
END:DAYLIGHT
BEGIN:STANDARD
TZOFFSETFROM:-0400
TZOFFSETTO:-0500
TZNAME:EST
DTSTART:20241103T060000
END:STANDARD
END:VTIMEZONE
BEGIN:VEVENT
DTSTART;TZID=America/New_York:20230628T200000
DTEND;TZID=America/New_York:20230628T210000
DTSTAMP:20260422T032004
CREATED:20230615T180951Z
LAST-MODIFIED:20230615T180951Z
UID:12073-1687982400-1687986000@medicalacupuncture.org
SUMMARY:Acupuncture Energetic and Segmental Approaches to Treat Pelvic Pain Webinar
DESCRIPTION:Presented by Joseph Audette\, MD\, MA \nThis webinar will discuss the current scientific evidence for the treatment of pelvic pain conditions with acupuncture. The focus of the discussion will highlight the treatment protocols used and their deficits. We will then propose an Acupuncture Energetic approach with a discussion of the neuroanatomy of pelvic pain and the importance of including adequate segmental treatments. The focus will be on use of the Very Point® technique and dry needling approaches to treat both local and segmental dysfunction in pelvic pain. \nObjectives: \n\nDiscuss the current evidence for the use of acupuncture in chronic pelvic pain conditions.\nImprove the quality of the practice of acupuncture with a more detailed understanding of the neuroanatomy of chronic pelvic pain.\nEfficiently integrate both segmental and myofascial acupuncture techniques into treatment of chronic pelvic pain conditions\nImprove the quality of the practice of acupuncture with a more detailed understanding of treatment approaches for specialized medical and pain conditions
URL:https://medicalacupuncture.org/event/acupuncture-energetic-and-segmental-approaches-to-treat-pelvic-pain-webinar/
CATEGORIES:Webinar
ORGANIZER;CN="AAMA":MAILTO:info@medicalacupuncture.org
END:VEVENT
END:VCALENDAR