BEGIN:VCALENDAR
VERSION:2.0
PRODID:-//American Academy of Medical Acupuncture (AAMA) - ECPv6.15.14//NONSGML v1.0//EN
CALSCALE:GREGORIAN
METHOD:PUBLISH
X-ORIGINAL-URL:https://medicalacupuncture.org
X-WR-CALDESC:Events for American Academy of Medical Acupuncture (AAMA)
REFRESH-INTERVAL;VALUE=DURATION:PT1H
X-Robots-Tag:noindex
X-PUBLISHED-TTL:PT1H
BEGIN:VTIMEZONE
TZID:Europe/London
BEGIN:DAYLIGHT
TZOFFSETFROM:+0000
TZOFFSETTO:+0100
TZNAME:BST
DTSTART:20240331T010000
END:DAYLIGHT
BEGIN:STANDARD
TZOFFSETFROM:+0100
TZOFFSETTO:+0000
TZNAME:GMT
DTSTART:20241027T010000
END:STANDARD
BEGIN:DAYLIGHT
TZOFFSETFROM:+0000
TZOFFSETTO:+0100
TZNAME:BST
DTSTART:20250330T010000
END:DAYLIGHT
BEGIN:STANDARD
TZOFFSETFROM:+0100
TZOFFSETTO:+0000
TZNAME:GMT
DTSTART:20251026T010000
END:STANDARD
BEGIN:DAYLIGHT
TZOFFSETFROM:+0000
TZOFFSETTO:+0100
TZNAME:BST
DTSTART:20260329T010000
END:DAYLIGHT
BEGIN:STANDARD
TZOFFSETFROM:+0100
TZOFFSETTO:+0000
TZNAME:GMT
DTSTART:20261025T010000
END:STANDARD
END:VTIMEZONE
BEGIN:VEVENT
DTSTART;TZID=Europe/London:20250622T123000
DTEND;TZID=Europe/London:20250622T170000
DTSTAMP:20260420T203913
CREATED:20250520T181828Z
LAST-MODIFIED:20250613T230936Z
UID:14769-1750595400-1750611600@medicalacupuncture.org
SUMMARY:Acupuncture in Health and Prevention Webinar
DESCRIPTION:FREE EVENT! \nICMART organizes its 6th Webinar “Acupuncture in Health and Prevention” on Sunday\, June 22\, 2025\, at 11.00 am GMT. \nLEARN MORE
URL:https://medicalacupuncture.org/event/acupuncture-in-health-and-prevention-webinar/
CATEGORIES:Webinar
END:VEVENT
END:VCALENDAR