BEGIN:VCALENDAR
VERSION:2.0
PRODID:-//American Academy of Medical Acupuncture (AAMA) - ECPv6.15.14//NONSGML v1.0//EN
CALSCALE:GREGORIAN
METHOD:PUBLISH
X-WR-CALNAME:American Academy of Medical Acupuncture (AAMA)
X-ORIGINAL-URL:https://medicalacupuncture.org
X-WR-CALDESC:Events for American Academy of Medical Acupuncture (AAMA)
REFRESH-INTERVAL;VALUE=DURATION:PT1H
X-Robots-Tag:noindex
X-PUBLISHED-TTL:PT1H
BEGIN:VTIMEZONE
TZID:America/New_York
BEGIN:DAYLIGHT
TZOFFSETFROM:-0500
TZOFFSETTO:-0400
TZNAME:EDT
DTSTART:20230312T070000
END:DAYLIGHT
BEGIN:STANDARD
TZOFFSETFROM:-0400
TZOFFSETTO:-0500
TZNAME:EST
DTSTART:20231105T060000
END:STANDARD
BEGIN:DAYLIGHT
TZOFFSETFROM:-0500
TZOFFSETTO:-0400
TZNAME:EDT
DTSTART:20240310T070000
END:DAYLIGHT
BEGIN:STANDARD
TZOFFSETFROM:-0400
TZOFFSETTO:-0500
TZNAME:EST
DTSTART:20241103T060000
END:STANDARD
BEGIN:DAYLIGHT
TZOFFSETFROM:-0500
TZOFFSETTO:-0400
TZNAME:EDT
DTSTART:20250309T070000
END:DAYLIGHT
BEGIN:STANDARD
TZOFFSETFROM:-0400
TZOFFSETTO:-0500
TZNAME:EST
DTSTART:20251102T060000
END:STANDARD
END:VTIMEZONE
BEGIN:VEVENT
DTSTART;TZID=America/New_York:20240724T200000
DTEND;TZID=America/New_York:20240724T200000
DTSTAMP:20260421T103545
CREATED:20240723T202545Z
LAST-MODIFIED:20240723T202545Z
UID:13934-1721851200-1721851200@medicalacupuncture.org
SUMMARY:Interosseous Membrane Stimulation An Effective and Underutilized Treatment Webinar
DESCRIPTION:Presented by Michael Freedman\, MD\, FAAMA \nThis presentation will discuss the use of interosseous membrane stimulation and the proposed mechanism of action of the treatment. Three of the myriad conditions with pain in the distal extremeties for which this stimulation is an effective treatment will also be presented. Participants will learn a safe\, minimally invasive and effective acupuncture option. \nAt the end of this activity\, participant will be able to – \n\nIdentify at least 3 factors that contribute to the control of blood flow to the extremities.\nDescribe evidence for autonomically mediate mechanism of action of interosseous membrane stimulation.\nIdentify at least 3 disease processes for which the treatment is effective.
URL:https://medicalacupuncture.org/event/interosseous-membrane-stimulation-an-effective-and-underutilized-treatment-webinar-2/
CATEGORIES:Webinar
ORGANIZER;CN="AAMA":MAILTO:info@medicalacupuncture.org
END:VEVENT
END:VCALENDAR