BEGIN:VCALENDAR
VERSION:2.0
PRODID:-//American Academy of Medical Acupuncture (AAMA) - ECPv6.15.14//NONSGML v1.0//EN
CALSCALE:GREGORIAN
METHOD:PUBLISH
X-WR-CALNAME:American Academy of Medical Acupuncture (AAMA)
X-ORIGINAL-URL:https://medicalacupuncture.org
X-WR-CALDESC:Events for American Academy of Medical Acupuncture (AAMA)
REFRESH-INTERVAL;VALUE=DURATION:PT1H
X-Robots-Tag:noindex
X-PUBLISHED-TTL:PT1H
BEGIN:VTIMEZONE
TZID:America/New_York
BEGIN:DAYLIGHT
TZOFFSETFROM:-0500
TZOFFSETTO:-0400
TZNAME:EDT
DTSTART:20220313T070000
END:DAYLIGHT
BEGIN:STANDARD
TZOFFSETFROM:-0400
TZOFFSETTO:-0500
TZNAME:EST
DTSTART:20221106T060000
END:STANDARD
BEGIN:DAYLIGHT
TZOFFSETFROM:-0500
TZOFFSETTO:-0400
TZNAME:EDT
DTSTART:20230312T070000
END:DAYLIGHT
BEGIN:STANDARD
TZOFFSETFROM:-0400
TZOFFSETTO:-0500
TZNAME:EST
DTSTART:20231105T060000
END:STANDARD
BEGIN:DAYLIGHT
TZOFFSETFROM:-0500
TZOFFSETTO:-0400
TZNAME:EDT
DTSTART:20240310T070000
END:DAYLIGHT
BEGIN:STANDARD
TZOFFSETFROM:-0400
TZOFFSETTO:-0500
TZNAME:EST
DTSTART:20241103T060000
END:STANDARD
END:VTIMEZONE
BEGIN:VEVENT
DTSTART;TZID=America/New_York:20231115T200000
DTEND;TZID=America/New_York:20231115T210000
DTSTAMP:20260421T200206
CREATED:20231113T210942Z
LAST-MODIFIED:20231113T210942Z
UID:12467-1700078400-1700082000@medicalacupuncture.org
SUMMARY:Acupuncture for Chronic MSK Pain – Backs\, Hips\, and Knees Webinar
DESCRIPTION:Presented by Mike Cummings\, MD \nThis webinar will briefly summarize the Western Medical Acupuncture (WMA) approach based on neurophysiological mechanisms of deep somatic nerve stimulation via acupuncture needling and electroacupuncture. It will use these mechanisms to explain the generic principles of point selection (PoPS) used in the WMA approach and use them to outline the development of some standard protocols used in the treatment of chronic MSK pain from the back\, hips\, and knees. \nAt the end of this activity\, participant will be able to: \n\nSummarize the key mechanisms of acupuncture needling and electroacupuncture\nDescribe the typical WMA approach to peripheral MSK pain (PoPS)\nOutline how this approach is used in the treatment of chronic back\, hip and knee pain\nDiscuss the advantages and disadvantages of using EA in some of these conditions
URL:https://medicalacupuncture.org/event/acupuncture-for-chronic-msk-pain-backs-hips-and-knees-webinar/
CATEGORIES:Webinar
ORGANIZER;CN="AAMA":MAILTO:info@medicalacupuncture.org
END:VEVENT
END:VCALENDAR